Workbook

Sheet CLIENTS
A1: CLIENTS
A3: DATE | B3: N° de facture | C3: TRANSAC | D3: CLIENTS | E3: Échéances | F3: HT | G3: TVA | H3: TTC | I3: Réglé
A5: JANVIER
A7: 21.01.2026 | B7: 3901-0126 | C7: JPC260103 | D7: GEMINI | E7: 21.02.2026 | F7: 2105.4 | G7: 0 | H7: =F7+G7 -> 2105.4 | I7: Payé le 17.02.2026
A8: 21.01.2026 | B8: 3902-0126 | C8: JPC260108 | D8: GEMINI | E8: 21.02.2026 | F8: 2015.2 | G8: 0 | H8: =F8+G8 -> 2015.2 | I8: Payé le 17.02.2026
A9: 23.01.2026 | B9: 3903-0126 | C9: SL260103 | D9: EUREKA PLAST | E9: 22.02.2026 | F9: 18248.93 | G9: 0 | H9: =SUM(F9:G9) -> 18248.93 | I9: Payé le 25.02.2026
A10: 27.01.2026 | B10: 3904-0126 | C10: SL260101 | D10: GEMINI | E10: 26.02.2026 | F10: 1914.6 | G10: 0 | H10: =SUM(F10:G10) -> 1914.6 | I10: Payé le 24.02.2026
A11: 31.01.2026 | B11: 3905-0126 | C11: SL260102 | D11: ESE France | E11: 02.03.2026 | F11: 15469.7 | G11: =F11*20% -> 3093.94 | H11: =SUM(F11:G11) -> 18563.64 | I11: Payé le 04.03.2026
A12: 31.01.2026 | B12: 3906-0126 | C12: SL260104 & SL260105 | D12: NOREVAL | E12: 28.02.2026 | F12: 1107.7 | G12: =F12*20% -> 221.54 | H12: =SUM(F12:G12) -> 1329.24 | I12: Payé le 16.03.2026
A13: 31.01.2026 | B13: 3907-0126 | C13: JPC260101,0105,0107,0109,0110,0112 | D13: SFP | E13: 15.03.2026 | F13: 7268.5 | G13: =F13*0.2 -> 1453.7 | H13: =F13+G13 -> 8722.2 | I13: Payé le 16.03.2026
A14: 31.01.2026 | B14: 3908-0126 | C14: JPC260104 | D14: VÉOLIA PMG | E14: 28.02.2026 | F14: 9657.68 | G14: =F14*0.2 -> 1931.536 | H14: =F14+G14 -> 11589.216 | I14: Payé le 02.03.2026
A15: 31.01.2026 | B15: 3909-0126 | C15: JPC260106 | D15: NEVEUX | E15: 15.03.2026 | F15: 16359.18 | G15: =F15*0.2 -> 3271.836 | H15: =F15+G15 -> 19631.016 | I15: Payé le 24.03.2026
A16: 31.01.2026 | B16: 3910-0126 | C16: JPC260111 | D16: GEMINI | E16: 03.03.2026 | F16: 1962.4 | G16: 0 | H16: =F16+G16 -> 1962.4 | I16: Payé le 02.03.2026
A17: 31.01.2026 | B17: 3911-0126 | C17: PRESTATIONS JANVIER MAROLLES | D17: EAUREAU-SOURCES | E17: 30.03.2026 | F17: 4836.45 | G17: =F17*0.2 -> 967.29 | H17: =F17+G17 -> 5803.74 | I17: Payé le 16.04.2026
A18: 31.11-0126 | B18: 3912-0126 | C18: PRESTATIONS JANVIER HERMES | D18: EAUREAU-SOURCES | E18: 30.03.2026 | F18: 1076.26 | G18: =F18*0.2 -> 215.252 | H18: =F18+G18 -> 1291.512 | I18: Payé le 16.04.2026
A19: 31.01.2026 | B19: 3913-0126 | C19: JPC260113 | D19: ARFP | E19: 31.03.2026 | F19: 725 | G19: =F19*0.2 -> 145 | H19: =F19+G19 -> 870 | I19: Payé le 01.04.2026
A20: 31.01.2026 | B20: 3914-0126 | C20: SL260104 & SL260105 | D20: CULLIGAN | E20: 31.03.2026 | F20: 620 | G20: =F20*20% -> 124 | H20: =SUM(F20:G20) -> 744 | I20: Payé le 16.09.2026
A21: 31.01.2026 | B21: 3915-0126 | C21: JPC260113 | D21: EUREAU SOURCES MONTEUX | E21: 31.03.2026 | F21: 700 | G21: =F21*20% -> 140 | H21: =SUM(F21:G21) -> 840 | I21: Payé le 06.05.2026
A22: 31.01.2026 | B22: 3916-0126 | C22: JPC260110 | D22: NOVALY
A24: TOTAL | F24: =SUM(F6:F23) -> 84067 | G24: =SUM(G6:G23) -> 11564.094 | H24: =SUM(H6:H23) -> 95631.094
A25: FEVRIER
A27: 13.02.2026 | B27: 3917-0226 | C27: JPC260202 | D27: TTPLAST | E27: 27.02.2026 | F27: 4571.5 | G27: 0 | H27: =F27+G27 -> 4571.5 | I27: Payé le 23.02.2026
A28: 16.02.2026 | B28: 3918-0226 | C28: SL260202 | D28: GEMINI | E28: 18.03.2026 | F28: 2538.2 | G28: 0 | H28: 2538.2 | I28: Payé le 16.03.2026
A29: 16.02.2026 | B29: 3919-0226 | C29: SL260203 | D29: RECYTHERM | E29: 30.04.2026 | F29: 3703.83 | G29: =F29*20% -> 740.766 | H29: =SUM(F29:G29) -> 4444.596 | I29: Payé le 05.05.2026 -AV3926
A30: 17.02.2026 | B30: 3920-0226 | C30: JPC260207 | D30: GEMINI | E30: 17.03.2026 | F30: 2003.4 | G30: 0 | H30: =SUM(F30:G30) -> 2003.4 | I30: Payé 23.03.2026
A31: 23.02.2026 | B31: 3921-0226 | C31: SL260206 | D31: GEMINI | E31: 23.03.2026 | F31: 1872.6 | G31: 0 | H31: 1872.6 | I31: Payé le 23.03.2026
A32: 23.02.2026 | B32: 3922-0226 | C32: SL260204 | D32: RECYTHERM | E32: 30.04.2026 | F32: 283.98 | G32: =F32*20% -> 56.796 | H32: =SUM(F32:G32) -> 340.776 | I32: Payé le 05.05.2026
A33: 25.02.2026 | B33: 3923-0226 | C33: SL260207 | D33: GEMINI | E33: 25.03.2026 | F33: 3029.9 | G33: =0 -> 0 | H33: =F33 -> 3029.9 | I33: Payé le 24.03.2026
A34: 25.02.2026 | B34: 3924-0226 | C34: SL260205 | D34: ESE France | E34: 27.03.2026 | F34: 17207.1 | G34: =F34*20% -> 3441.42 | H34: =SUM(F34:G34) -> 20648.52 | I34: Payé le 01.04.2026
A35: 26.02.2026 | B35: 3925-0226 | C35: SL260208 | D35: ESE France | E35: 28.03.2026 | F35: 16835.85 | G35: =F35*20% -> 3367.17 | H35: =SUM(F35:G35) -> 20203.02 | I35: Payé le 07.04.2026
A36: 26.02.2026 | B36: 3926-0226 | C36: SL260203 ( Avoir sur facture 3919 suite erreur prix + NCF) | D36: RECYTHERM | E36: 30.04.2026 | F36: -701.61 | G36: =F36*20% -> -140.322 | H36: =SUM(F36:G36) -> -841.932 | I36: Déduit le 05.05.2026
A37: 26.02.2026 | B37: 3927-0226 | C37: SL260203 (NCF + Frais part Recyclage) | D37: PAPREC | E37: 28.03.2026 | F37: 805.08 | G37: =F37*20% -> 161.016 | H37: =SUM(F37:G37) -> 966.096 | I37: Payé le 17.04.2026
A38: 26.02.2026 | B38: 3928-0226 | C38: SL260204 ( Frais Part au recyclage) | D38: PAPREC | E38: 28.03.2026 | F38: 567.96 | G38: =F38*20% -> 113.592 | H38: =SUM(F38:G38) -> 681.552 | I38: Payé le 17.04.2026
A39: 27.02.2023 | B39: 3929-0226 | C39: JPC260211 | D39: TTPLAST | E39: 13.03.2026 | F39: 5202.62 | G39: 0 | H39: =SUM(F39:G39) -> 5202.62 | I39: Payé le 16.03.2026
A40: 27.02.2026 | B40: 3930-0226 | C40: JPC260201, JPC260206 & JPC260214 | D40: SFP | E40: 15.04.2026 | F40: 4066.75 | G40: =F40*0.2 -> 813.35 | H40: =F40+G40 -> 4880.1 | I40: Payé le 27.04.2026
A41: 27.02.2026 | B41: 3931-0226 | C41: JPC260204,JPC260212,JPC260215 | D41: PAPI | E41: 15.04.2026 | F41: 6188.7 | G41: =F41*0.2 -> 1237.74 | H41: =F41+G41 -> 7426.44 | I41: Payé le 13.04.2026
A42: 27.02.2026 | B42: 3932-0226 | C42: JPC260205 | D42: BUTIN | E42: 15.04.2026 | F42: 445.38 | G42: =F42*0.2 -> 89.076 | H42: =F42+G42 -> 534.456 | I42: Payé le 05.05.2026
A43: 27.02.2026 | B43: 3933-0226 | C43: JPC260208 | D43: NEVEUX | E43: 15.04.2026 | F43: 17452.5 | G43: =F43*0.2 -> 3490.5 | H43: =F43+G43 -> 20943 | I43: Payé le 21.04.2026
A44: 27.02.2026 | B44: 3934-0226 | C44: JPC260209 | D44: ESE France | E44: 27.03.2026 | F44: 14762.2 | G44: =F44*0.2 -> 2952.44 | H44: =F44+G44 -> 17714.64 | I44: Payé le 28.04.2026
A45: 27.02.2026 | B45: 3935-0226 | C45: JPC260210 | D45: ESE France | E45: 27.03.2026 | F45: 12127.2 | G45: =F45*0.2 -> 2425.44 | H45: =F45+G45 -> 14552.64 | I45: Payé le 28.04.2026
...

Sheet FOURNISSEURS
A1: FOURNISSEURS
A3: DATE | B3: N° de facture | C3: TRANSAC | D3: FOURNISSEUR | E3: Échéances | F3: HT | G3: TVA | H3: TTC | I3: Réglé
A5: JANVIER
A7: 12.01.2026 | B7: FA010528 | C7: JCP260103 | D7: REVIPLAST | E7: 26.02.2026 | F7: 635.2 | G7: =F7*0.2 -> 127.04 | H7: =F7+G7 -> 762.24 | I7: Payé le 02.03.2026
A8: 13.01.2026 | B8: FA010531 | C8: JPC260108 | D8: REVIPLAST | E8: 27.02.2026 | F8: 614.4 | G8: =F8*0.2 -> 122.88 | H8: =F8+G8 -> 737.28 | I8: Payé le 02.03.2026
A9: 15.01.2026 | B9: V/BBOR600020 | C9: JPC251212, 251207 & 251202 | D9: BUTIN | E9: 16.03.2026 | F9: 276.95 | G9: 0 | H9: =F9+G9 -> 276.95 | I9: Payé le 17.03.2026
A10: 22.01.2026 | B10: CIN0149242 | C10: SL260103 | D10: FLEXICO | E10: 21.02.2026 | F10: 17660.25 | G10: =F10*20% -> 3532.05 | H10: =SUM(F10:G10) -> 21192.3 | I10: Payé le 23.02.2026
A11: 26.01.2026 | B11: FA010550 | C11: JPC260111 | D11: REVIPLAST | E11: 13.03.2026 | F11: 499.2 | G11: 99.84 | H11: =SUM(F11:G11) -> 599.04 | I11: Payé le 17.03.2026
A12: 27.01.2026 | B12: 903353 | C12: SL2601XX - TAF Poubelles Agglo 60 | D12: ARFP | E12: 15.03.2026 | F12: 1201.6 | G12: 7.68 | H12: =SUM(F12:G12) -> 1209.28 | I12: Payé le 17.03.2026
A13: 27.01.2026 | B13: FA010551 | C13: JPC260104 | D13: REVIPLAST | E13: 13.03.2026 | F13: 8445.9 | G13: =F13*0.2 -> 1689.18 | H13: =SUM(F13:G13) -> 10135.08 | I13: Payé le 17.03.2026
A14: 29.01.2026 | B14: 1260010 | C14: SL260101 | D14: F.E.R | E14: 28.02.2026 | F14: 1063.4 | G14: 0 | H14: 1063.4 | I14: Payé le 02.03.2026
A15: 30.01.2026 | B15: 602028 | C15: SL260102 | D15: VALPLAST | E15: 28.02.2026 | F15: 13618.25 | G15: =F15*20% -> 2723.65 | H15: =SUM(F15:G15) -> 16341.9 | I15: Payé le 19.03.2026
A16: 30.01.2026 | B16: FA010562 | C16: JPC260106 | D16: REVIPLAST | E16: 16.03.2026 | F16: 13927.41 | G16: =F16*20% -> 2785.482 | H16: =SUM(F16:G16) -> 16712.892 | I16: Payé le 17.03.2026
A25: TOTAL | F25: =SUM(F6:F24) -> 57942.56 | G25: =SUM(G6:G24) -> 11087.802 | H25: =SUM(H6:H24) -> 69030.362
A26: FEVRIER
A27: 13.02.2026 | B27: FA010652 | C27: JPC260207 | D27: REVIPLAST | E27: 30.03.2026 | F27: 533.05 | G27: =F27*0.2 -> 106.61 | H27: =F27+G27 -> 639.66 | I27: Payé le 30.03.2026
A28: 16.02.2026 | B28: 02260006 | C28: SL260202 | D28: F.E.R | E28: 16.03.2026 | F28: 1651.6 | G28: 0 | H28: =SUM(F28:G28) -> 1651.6 | I28: Payé le 17.03.2026
A29: 18.02.2026 | B29: 903366 | C29: SL260201 | D29: ARFP | E29: 30.04.2026 | F29: 994.62 | G29: 11.4 | H29: =SUM(F29:G29) -> 1006.02 | I29: Payé le 07.05.2026
A30: 18.02.2026 | B30: 903365 | C30: JPC260204 | D30: ARFP | E30: 30.04.2026 | F30: 1753.05 | G30: 0 | H30: =F30+G30 -> 1753.05 | I30: Payé le 07.05.2026
A31: 24.02.2026 | B31: 903371 | C31: JPC260209 | D31: ARFP | E31: 30.04.2026 | F31: 12857.4 | G31: =F31*0.2 -> 2571.48 | H31: =F31+G31 -> 15428.88 | I31: Payé le 07.05.2026
A32: 25.02.2025 | B32: 903378 | C32: JPC260213 | D32: ARFP | E32: 30.04.2025 | F32: 3288 | G32: 0 | H32: =F32+G32 -> 3288 | I32: Payé le 07.05.2026
A33: 25.02.2025 | B33: 903377 | C33: JPC260208 | D33: ARFP | E33: 30.04.2026 | F33: 14767.5 | G33: =F33*0.2 -> 2953.5 | H33: =F33+G33 -> 17721 | I33: Payé le 07.05.2026
A34: 25.02.2026 | B34: P/BBOR600183 | C34: Prestation Janvier HERMES | D34: BUTIN | E34: 26.04.2026 | F34: 936.29 | G34: =F34*0.2 -> 187.258 | H34: =F34+G34 -> 1123.548 | I34: Payé le 11.06.2026
A35: 25.02.2026 | B35: P/BBOR600182 | C35: Prestation Janvier MAROLLES | D35: BUTIN | E35: 26.04.2026 | F35: 4360.67 | G35: =F35*0.2 -> 872.134 | H35: =F35+G35 -> 5232.804 | I35: Payé le 11.06.2026
A36: 28.02.2026 | B36: 903384 | C36: JPC216602 | D36: ARFP | E36: 30.04.2026 | F36: 1580.25 | G36: 0 | H36: =F36+G36 -> 1580.25 | I36: Payé le 07.05.2026
A37: 28.02.2026 | B37: 903382 | C37: JPC260215 | D37: ARFP | E37: 30.04.2026 | F37: 1660.25 | G37: 0 | H37: =F37+G37 -> 1660.25 | I37: Payé le 07.05.2026
A38: 28.02.2026 | B38: 02260194 | C38: SL260207 | D38: F.E.R | E38: 28.03.2026 | F38: 2179.1 | G38: 0 | H38: =F38+G38 -> 2179.1 | I38: Payé le 30.03.2026
A39: 28.02.2026 | B39: NAN26020849 | C39: SL260203, SL260204, SL260205, SL260208 | D39: PAPREC PLASTIQUES | E39: 29.04.2026 | F39: 33505.94 | G39: =F39*20% -> 6701.188 | H39: =SUM(F39:G39) -> 40207.128 | I39: Payé le 27.04 pour échéance
A40: 28.02.2026 | B40: RC0226156 | C40: SL260206 | D40: DCDIS | E40: 30.03.2026 | F40: 315 | G40: =F40*20% -> 63 | H40: =SUM(F40:G40) -> 378 | I40: Payé le 07.04.2026
A49: TOTAL | F49: =SUM(F27:F48) -> 80382.72 | G49: =SUM(G27:G48) -> 13466.57 | H49: =SUM(H27:H48) -> 93849.29
A50: MARS
A52: 06.03.2026 | B52: FA010758 | C52: JPC260303 | D52: REVIPLAST | E52: 20.04.2026 | F52: 625.8 | G52: =F52*0.2 -> 125.16 | H52: =F52+G52 -> 750.96 | I52: Payé le 20.04.2026
A53: 11.03.2026 | B53: FA010765 | C53: JPC260308 | D53: REVIPLAST | E53: 25.04.2026 | F53: 935.1 | G53: =F53*0.2 -> 187.02 | H53: =F53+G53 -> 1122.12 | I53: Payé le 20.04.2026 pour échéance
A54: 18.03.2026 | B54: 3260012 | C54: SL260301 | D54: F.E.R | E54: 18.04.2026 | F54: 1405.4 | G54: 0 | H54: =F54+G54 -> 1405.4 | I54: Payé le 13.04.2026 pour échéance
A55: 20.03.2026 | B55: P/BBOR600685 | C55: Prestation FÉVRIER HERMES | D55: BUTIN | E55: 19.05.2026 | F55: 974.7 | G55: 194.94 | H55: =F55+G55 -> 1169.64 | I55: Payé le 18.05.2026 pour échéance
A56: 20.03.2026 | B56: P/BBOR600686 | C56: Prestation FÉVRIER MAROLLES | D56: BUTIN | E56: 19.05.2026 | F56: 3730.48 | G56: =F56*0.2 -> 746.096 | H56: =F56+G56 -> 4476.576 | I56: Payé le 18.05.2026 pour échéance
A57: 23.03.2026 | B57: FA010796 | C57: JPC260311 | D57: REVIPLAST | E57: 07.05.2026 | F57: 813.2 | G57: =F57*0.2 -> 162.64 | H57: =F57+G57 -> 975.84 | I57: Payé le 07.05.2026
A58: 27.03.2026 | B58: NAN26030621 | C58: SL260203 | D58: PAPREC | E58: IMMEDIAT | F58: -71.75 | G58: -14.35 | H58: =F58+G58 -> -86.1 | I58: Déduit le 27.04.2026 sur/facture nº26020849
A59: 30.03.2026 | B59: 903394 | C59: JPC260309 | D59: ARFP | E59: 15.05.2026 | F59: 1596.45 | G59: 0 | H59: =F59+G59 -> 1596.45 | I59: Payé le 18.05.2026
A60: 31.03.2026 | B60: NAN26030750 | C60: SL260303 | D60: PAPREC | E60: 30.05.2026 | F60: 1884.8 | G60: 0 | H60: =F60+G60 -> 1884.8 | I60: Payé le 01.06.2026
...

Sheet TRANSPORTEURS
A1: TRANSPORTEURS
A3: Date doc. | B3: N° Facture | C3: TRANSPORTEURS | D3: Échéances | E3: Montant HT | F3: TVA | G3: TTC | H3: Commentaires
A5: JANVIER
A7: 26.01.2026 | B7: 2026-01-0587 | C7: LAMBERT TVSL | D7: 12.03.2026 | E7: 350 | F7: 0 | G7: 350 | H7: Payé le 10.03.2026 - SL260101
A8: 31.01.2026 | B8: B2601103 | C8: LMIF | D8: 02.03.2026 | E8: 1100 | F8: =E8*20% -> 220 | G8: =SUM(E8:F8) -> 1320 | H8: Payé le 10.03.2026 - JPC260101, JPC260107, JPC260109, JPC260110, JPC260112
A9: 31.01.2026 | B9: 260100237 | C9: FERTRANS | D9: 02.03.2025 | E9: 5930 | F9: 1186 | G9: =SUM(E9:F9) -> 7116 | H9: Payé le 02.03.2026 - JPC260103,0108,0111,0104,SL260102,0105,0104, JPC260113,0106
A10: 31.01.2026 | B10: 10810308 | C10: TNT FEDEX | D10: 02.03.2026 | E10: 74.47 | F10: 14.89 | G10: =SUM(E10:F10) -> 89.36 | H10: Echantillons PA ARFP --> MABITAL du 16.01.2026 / Prélèvement à l'échéance
A21: TOTAL | E21: =SUM(E6:E20) -> 7454.47 | F21: =SUM(F6:F20) -> 1420.89 | G21: =SUM(G6:G20) -> 8875.36
A22: FEVRIER
A24: 09.02.2026 | B24: 2026020250 | C24: LAMBERT TVSL | D24: 26.03.2026 | E24: 350 | F24: 0 | G24: 350 | H24: Payé le 02.03.2026 - SL260202
A25: 23.02.2026 | B25: 2026020832 | C25: LAMBERT TVSL | D25: 09.04.2026 | E25: 350 | F25: 0 | G25: 350 | H25: Payé le 07.04.2026 - SL260206
A26: 27.02.2026 | B26: 2026021111 | C26: LAMBERT TVSL | D26: 13.04.2026 | E26: 350 | F26: 0 | G26: 350 | H26: Payé le 12.05.2025
A27: 28.02.2026 | B27: F_2026_02_36 | C27: PILLON | D27: 30.03.2026 | E27: 360 | F27: =E27*0.2 -> 72 | G27: =E27+F27 -> 432 | H27: Payé le 30.03.2026 - SL260201
A28: 28.02.2026 | B28: 260200665 | C28: FERTRANS | D28: 30.03.2026 | E28: 7150 | F28: 1430 | G28: =E28+F28 -> 8580 | H28: Payé le 30.03.2026 - SL260203, 0204, 0205, 0208, JPC260207, 0209, 0208, 0210, 0213, 0205
A29: 28.02.2026 | B29: B2602211 | C29: LMIF | D29: 30.03.2026 | E29: 2332.75 | F29: =E29*20% -> 466.55 | G29: =SUM(E29:F29) -> 2799.3 | H29: Payé le 30.03.2026 - JPC260201, JPC260204, JPC260202, JPC260212, JPC260214, JPC260215, JPC260211
A36: TOTAL | E36: =SUM(E23:E35) -> 10892.75 | F36: =SUM(F23:F35) -> 1968.55 | G36: =SUM(G23:G35) -> 12861.3
A37: MARS
A38: 06.03.2026 | B38: 2026030039 | C38: LAMBERT TVSL | D38: 20.04.2026 | E38: 350 | F38: 0 | G38: 350 | H38: Payé le 20.01.2026 - SL260301
A39: 12.03.2026 | B39: 2026030358 | C39: LAMBERT TVSL | D39: 26.04.2026 | E39: 450 | F39: 0 | G39: 450 | H39: Payé le 27.04.2026 - JPC260304
A40: 27.03.2026 | B40: 2026031200 | C40: LAMBERT TVSL | D40: 11.05.2026 | E40: 700 | F40: 0 | G40: 700 | H40: Payé le 11.05.2026 - SL260306
A41: 31.03.2026 | B41: 260301031 | C41: FERTRANS | D41: 30.04.2026 | E41: 7735 | F41: 1547 | G41: =E41+F41 -> 9282 | H41: Payé le 27.04.2026 pour échéance - JPC260302, 260303, 260308, 260305, 260310, 260312, 260311, SL260303, 260304, 260305, 260302
A42: 31.03.2026 | B42: B2603202 | C42: LMIF | D42: 30.04.2026 | E42: 1768 | F42: =E42*20% -> 353.6 | G42: =SUM(E42:F42) -> 2121.6 | H42: Payé le 27.04.2026 pour échéance -
A50: TOTAL | E50: =SUM(E38:E49) -> 11003 | F50: =SUM(F38:F49) -> 1900.6 | G50: =SUM(G38:G49) -> 12903.6
A51: AVRIL
A53: 30.04.2026 | B53: 260401577 | C53: FERTRANS | D53: 30.05.2026 | E53: 12430 | F53: =E53*0.2 -> 2486 | G53: =E53+F53 -> 14916 | H53: Payé le 01.06.2026
A54: 30.04.2026 | B54: B2604174 | C54: LMIF | D54: 30.05.2026 | E54: 538 | F54: =E54*20% -> 107.6 | G54: =SUM(E54:F54) -> 645.6 | H54: Payé le 01.06.2026 - JPC260206, JPC260412BIS,
A65: TOTAL | E65: =SUM(E52:E64) -> 12968 | F65: =SUM(F52:F64) -> 2593.6 | G65: =SUM(G52:G64) -> 15561.6
A66: MAI
A68: 31.05.2026 | B68: B2605074 | C68: LMIF | D68: 30.06.2026 | E68: 718 | F68: =E68*20% -> 143.6 | G68: =SUM(E68:F68) -> 861.6 | H68: Payé le 29.06.2026 - JPC260507, JPC260504
A69: 31.05.2026 | B69: F_2026_05_6 | C69: PILLON TRANSPORTS | D69: 30.06.2026 | E69: 360 | F69: =E69*20% -> 72 | G69: =SUM(E69:F69) -> 432 | H69: Payé le 29.06.2026 - Agglo Beauvais du 5.05.2026
A70: 31.05.2026 | B70: 260501999 | C70: FERTRANS | D70: 30.06.2026 | E70: 8565 | F70: 1713 | G70: =E70+F70 -> 10278 | H70: Payé le 29.06.2026
A72: TOTAL | E72: =SUM(E67:E71) -> 9643 | F72: =SUM(F67:F71) -> 1928.6 | G72: =SUM(G67:G71) -> 11571.6
A73: JUIIN
A75: 30.06.2026 | B75: 260602310 | C75: FERTRANS | D75: 30.07.2026 | E75: 9400 | F75: 1880 | G75: =E75+F75 -> 11280 | H75: Payé le 05.08.2026
A76: 30.06.2026 | B76: B2606163 | C76: LMIF | D76: 30.07.2026 | E76: 1218 | F76: =E76*20% -> 243.6 | G76: =SUM(E76:F76) -> 1461.6 | H76: Payé le 05.08.2026 - JPC260601, JPC260608, SL260605, JPC260610,
A77: 30.06.2026 | B77: 20260656 | C77: DIMA SERVICES | D77: 30.07.2026 | E77: 320 | F77: =E77*20% -> 64 | G77: =SUM(E77:F77) -> 384 | H77: Payé le 05.08.2026 - SL260601
A85: TOTAL | E85: =SUM(E74:E84) -> 10938 | F85: =SUM(F74:F84) -> 2187.6 | G85: =SUM(G74:G84) -> 13125.6
A86: JUILLET 2024
A96: TOTAL | E96: =SUM(E87:E95) -> 0 | F96: =SUM(F87:F95) -> 0 | G96: =SUM(G87:G95) -> 0
A97: AOUT 2024
...

Sheet Frais GÉ
A1: FRAIS GÉNÉRAUX
A3: Date doc. | B3: N° Facture | C3: PRESTATAIRES | D3: Échéances | E3: Montant HT | F3: TVA | G3: TTC | H3: Réglé | I3: Commentaires
A5: JANVIER
A6: 01.01.2026 | B6: 202601-00976 | C6: MOBIFLEET | D6: 01.01.2026 | E6: 382.67 | F6: 76.53 | G6: =F6+E6 -> 459.2 | H6: X | I6: Prélèvement
A7: 07.01.2026 | B7: 1 556 | C7: DEGENEVE | D7: IMMÉDIAT | E7: 180 | F7: 36 | G7: =F7+E7 -> 216 | H7: X | I7: Payé le 07.01.2026
A8: 07.01.2026 | B8: 143001843 | C8: FCN BEAUVAIS - 1 S/6 | D8: IMMÉDIAT | E8: 1059.99 | F8: =E8*0.2 -> 211.998 | G8: =E8+F8 -> 1271.988 | H8: X | I8: Prélèvement
A9: 28.01.2026 | B9: 755 000424248 | C9: COFICA BAIL | D9: IMMEDIAT | E9: 1092.89 | F9: 204.58 | G9: =SUM(E9:F9) -> 1297.47 | H9: X | I9: Prélèvement
A10: 31.01.2026 | B10: 01/2026 | C10: NDF Séverine Janvier 26 | D10: Immédiat | E10: 395.55 | F10: 44.26 | G10: =SUM(E10:F10) -> 439.81 | H10: X | I10: Payé le 03.02.2026
A11: 31.01.2026 | B11: 0001-0126 | C11: SCPF CABROL | D11: IMMEDIAT | E11: 4040.84 | F11: =E11*0.2 -> 808.168 | G11: =E11+F11 -> 4849.008 | H11: X | I11: Payé le 03.02.2026
A12: 31.01.2026 | B12: Loyer bureau EDEAL | C12: Séverine LEFFRAY | D12: IMMEDIAT | E12: 420 | F12: 84 | G12: 504 | H12: X | I12: Payé le 03.03.2026
A16: TOTAL | E16: =SUM(E6:E15) -> 7571.94 | F16: =SUM(F6:F15) -> 1465.536 | G16: =SUM(G6:G15) -> 9037.476
A17: FEVRIER
A18: 01.02.2026 | B18: 202602-00940 | C18: MOBIFLEET | D18: IMMEDIAT | E18: 382,67 | F18: 76,53 | G18: =E18+F18 -> 459.2 | H18: X | I18: Prélevé
A19: 02.02.2026 | B19: 26007764 | C19: Santé au Travail 72 | D19: IMMEDIAT | E19: 128.5 | F19: 25.7 | G19: =E19+F19 -> 154.2 | H19: X | I19: Payé le 02.02.2026
A20: 25.02.2026 | B20: 755000437677 | C20: COFICA BAIL | D20: IMMEDIAT | E20: 1092.89 | F20: 204.58 | G20: 1297.47 | H20: X | I20: Prélèvement
A21: 28.02.2026 | B21: 0002-0226 | C21: SCPF CABROL | D21: IMMEDIAT | E21: 4000 | F21: =E21*0.2 -> 800 | G21: =E21+F21 -> 4800 | H21: X | I21: Payé le 02.03.2026
A22: 28.02.2026 | B22: 02/2026 | C22: NDF Séverine Février | D22: IMMEDIAT | E22: 159.43 | F22: 23.96 | G22: =E22+F22 -> 183.39 | H22: X | I22: Payé le 06.03.2026
A23: 28.02.2026 | B23: Loyer bureau EDEAL | C23: Séverine LEFFRAY | D23: IMMEDIAT | E23: 420 | F23: 84 | G23: 504 | H23: X | I23: Payé le 03.03.2026
A24: TOTAL | E24: =SUM(E18:E23) -> 5800.82 | F24: =SUM(F18:F23) -> 1138.24 | G24: =SUM(G18:G23) -> 7398.26
A25: MARS
A26: 01.03.2026 | B26: 202603-00915 | C26: MOBIFLEET | D26: IMMEDIAT | E26: 382.67 | F26: 76.53 | G26: =E26+F26 -> 459.2 | H26: X | I26: Prélevé
A27: 02.03.2026 | B27: 143002258 | C27: FCN APPEL Nº2/6 | D27: IMMEDIAT | E27: 999.66 | F27: 200 | G27: =E27+F27 -> 1199.66 | H27: X | I27: Prélevé
A28: 06.03.2026 | B28: 46082 | C28: NDF Séverine Mars | D28: IMMEDIAT | E28: 912.46 | F28: 1.63 | G28: =E28+F28 -> 914.09 | H28: X | I28: Payé le 06.03.2026
A29: 09.03.2026 | B29: 143002439 | C29: FCN | D29: 31.03.2026 | E29: 62 | F29: =E29*20% -> 12.4 | G29: =SUM(E29:F29) -> 74.4 | H29: X | I29: Prélèvement le 31.03 ( Facturation des bulletins de paie de Janvier et Février 26)
A30: 27.03.2026 | B30: 755 000451052 | C30: COFICA BAIL | D30: IMMEDIAT | E30: =G30-F30 -> 1092.89 | F30: 204.58 | G30: 1297.47 | H30: X | I30: Prélèvement
A31: 31.03.2026 | B31: 0003.0326 | C31: SCPF CABROL | D31: 31.03.2026 | E31: 4000 | F31: =E31*0.2 -> 800 | G31: =SUM(E31:F31) -> 4800 | H31: X | I31: Payé le 27.03.2026
A32: 31.03.2026 | B32: LOYER EDEAL MARS | C32: S.LEFFRAY | D32: IMMEDIAT | E32: 420 | F32: 84 | G32: =E32+F32 -> 504 | H32: X | I32: Payé le 13.04.2026
A33: 31.03.2026 | B33: NDF complément MARS | C33: S.LEFFRAY | D33: IMMEDIAT | E33: 228.47 | F33: 38.97 | G33: =E33+F33 -> 267.44 | H33: X | I33: Payé le 13.04.2026
A34: TOTAL | E34: =SUM(E26:E33) -> 8098.15 | F34: =SUM(F26:F33) -> 1418.11 | G34: =SUM(G26:G33) -> 9516.26
A35: AVRIL
A36: 01.04.2026 | B36: 202604-00886 | C36: MOBIFLEET | D36: 01.04.2026 | E36: 382.67 | F36: 76.53 | G36: =E36+F36 -> 459.2 | H36: X | I36: Prélevé
A37: 24.04.2026 | B37: 755 000464565 | C37: COFICA BAIL | D37: IMMEDIAT | E37: =G37-F37 -> 1092.89 | F37: 204.58 | G37: 1297.47 | H37: X | I37: Prélevé
A38: 27.04.2026 | B38: FR-00051594 | C38: SAGE | D38: 27.04.2025 | E38: 25 | F38: =E38*0.2 -> 5 | G38: =E38+F38 -> 30 | H38: X | I38: Prélevé
A39: 28.04.2026 | B39: 143002673 | C39: FCN | D39: 31.05.2026 | E39: 31 | F39: 6.2 | G39: =E39+F39 -> 37.2 | H39: X | I39: Prélevé
A40: 28.04.2026 | B40: 143002673 | C40: FCN Beauvais | D40: 31.05.2026 | E40: 31 | F40: =E40*20% -> 6.2 | G40: =SUM(E40:F40) -> 37.2 | H40: X | I40: Prélèvement le 31.05
A41: 30.04.2026 | B41: 0004-0426 | C41: SCPF CABROL | D41: IMMEDIAT | E41: 4000 | F41: 800 | G41: =E41+F41 -> 4800 | H41: X | I41: Payé le 30.04.2026
A42: 30.04.2026 | B42: LOYER EDEAL AVRIL | C42: S. LEFFRAY | D42: IMMEDIAT | E42: 420 | F42: =E42*20% -> 84 | G42: =SUM(E42:F42) -> 504 | H42: X | I42: Payé le 11.05.2026
A43: 30.04.2026 | B43: NDF Séverine | C43: S.LEFFRAY | D43: IMMEDIAT | E43: 138.46 | F43: 27.7 | G43: =SUM(E43:F43) -> 166.16 | H43: X | I43: Payé le 11.05.2026
A44: TOTAL | E44: =SUM(E36:E43) -> 6121.02 | F44: =SUM(F36:F43) -> 1210.21 | G44: =SUM(G36:G43) -> 7331.23
A45: MAI
...

Sheet SYNTHÈSE
A1: SYNTHÈSE C.A & MARGE C0 | K1: SYNTHÈSE ACHATS
C4: CA 2024 | D4: CA 2025 | E4: % Évolution du CA | G4: Marge CO 2024 | H4: Marge CO 2025 | I4: % Évol M.CO | M4: Fournisseurs | N4: FNP | O4: Transporteurs | P4: FNP
A5: JANVIER | C5: 109693.92 | D5: =CLIENTS!F24 -> 84067 | E5: =(D5-C5)/C5 -> -0.23362206 | G5: ='[1]JANVIER '!L52 -> 12665.555 | H5: =D5-(M5+N5+O5+P5) -> 12902.92 | I5: =(H5-G5)/G5 -> 0.018740987 | K5: JANVIER | M5: =FOURNISSEURS!F25 -> 57942.56 | N5: 5767.05 | O5: =TRANSPORTEURS!E21 -> 7454.47 | P5: 0
A6: FEVRIER | C6: 132158.83 | D6: =CLIENTS!F51 -> 123551.35 | E6: =(D6-C6)/C6 -> -0.065129814 | G6: =[1]FEVRIER!L76 -> 17379.702 | H6: =D6-(M6+N6+O6+P6) -> 31337.88 | I6: =(H6-G6)/G6 -> 0.80313103 | K6: FEVRIER | M6: =FOURNISSEURS!F49 -> 80382.72 | N6: 498 | O6: =TRANSPORTEURS!E36 -> 10892.75 | P6: 440
A7: MARS | C7: 60865.15 | D7: =CLIENTS!F75 -> 44596.16 | E7: =(D7-C7)/C7 -> -0.26729565 | G7: =[1]MARS!L52 -> 8021.3 | H7: =D7-(M7+N7+O7+P7) -> -13275.04 | I7: =(H7-G7)/G7 -> -2.6549736 | K7: MARS | M7: =FOURNISSEURS!F70 -> 45636.1 | N7: 1232.1 | O7: =TRANSPORTEURS!E50 -> 11003 | P7: 0
A8: AVRIL | C8: 132803.08 | D8: =CLIENTS!F99 -> 104505.76 | E8: =(D8-C8)/C8 -> -0.21307729 | G8: =[1]AVRIL!L70 -> 17844.567 | H8: =D8-(M8+N8+O8+P8) -> 23750.76 | I8: =(H8-G8)/G8 -> 0.3309799 | K8: AVRIL | M8: =FOURNISSEURS!F103 -> 67787 | N8: =TRANSPORTEURS!O49 -> 0 | O8: =TRANSPORTEURS!E65 -> 12968 | P8: 0
A9: MAI | C9: 48894 | D9: =CLIENTS!F123 -> 41933.6 | E9: =(D9-C9)/C9 -> -0.14235694 | G9: =[1]MAI!L32 -> 11074.855 | H9: =D9-(M9+N9+O9+P9) -> 20802.31 | I9: =(H9-G9)/G9 -> 0.87833701 | K9: MAI | M9: =FOURNISSEURS!F117 -> 11488.29 | N9: =TRANSPORTEURS!O55 -> 0 | O9: =TRANSPORTEURS!E72 -> 9643 | P9: 0
A10: JUIN | C10: 114652.67 | D10: =CLIENTS!F149 -> 87038.96 | E10: =(D10-C10)/C10 -> -0.24084664 | G10: =[1]JUIN!L84 -> 18808.763 | H10: =D10-(M10+N10+O10+P10) -> 33242.91 | I10: =(H10-G10)/G10 -> 0.76741607 | K10: JUIN | M10: =FOURNISSEURS!F134 -> 42858.05 | N10: =TRANSPORTEURS!O68 -> 0 | O10: =TRANSPORTEURS!E85 -> 10938 | P10: 0
A11: JUILLET | C11: 71363.67 | D11: =CLIENTS!F182 -> 0 | E11: =(D11-C11)/C11 -> -1 | G11: =[1]JUILLET!L61 -> 12535.723 | H11: =D11-(M11+N11+O11+P11) -> -42858.05 | I11: =(H11-G11)/G11 -> -4.4188734 | K11: JUILLET | M11: =FOURNISSEURS!F134 -> 42858.05 | N11: 0 | O11: =TRANSPORTEURS!E96 -> 0 | P11: 0
A12: AOÛT | C12: 57732.67 | D12: =CLIENTS!F199 -> 0 | E12: =(D12-C12)/C12 -> -1 | G12: =[1]AOÛT!L48 -> 9064.255 | H12: =D12-(M12+N12+O12+P12) -> 0 | I12: =(H12-G12)/G12 -> -1 | K12: AOÛT | M12: =FOURNISSEURS!F173 -> 0 | N12: 0 | O12: =TRANSPORTEURS!E112 -> 0 | P12: 0
A13: SEPTEMBRE | C13: 97628.78 | D13: =CLIENTS!F228 -> 0 | E13: =(D13-C13)/C13 -> -1 | G13: ='[1]SEPTEMBRE '!L62 -> 18934.72 | H13: =D13-(M13+N13+O13+P13) -> 0 | I13: =(H13-G13)/G13 -> -1 | K13: SEPTEMBRE | M13: =FOURNISSEURS!F198 -> 0 | N13: 0 | O13: =TRANSPORTEURS!E130 -> 0 | P13: 0
A14: OCTOBRE | C14: 95476.76 | D14: =CLIENTS!F250 -> 0 | E14: =(D14-C14)/C14 -> -1 | G14: =[1]OCTOBRE!L71 -> 18004.515 | H14: =D14-(M14+N14+O14+P14) -> 0 | I14: =(H14-G14)/G14 -> -1 | K14: OCTOBRE | M14: =FOURNISSEURS!F224 -> 0 | N14: 0 | O14: =TRANSPORTEURS!E156 -> 0 | P14: 0
A15: NOVEMBRE | C15: 102090.3 | D15: =[2]Avril!M74 -> 0 | E15: =(D15-C15)/C15 -> -1 | G15: =[1]NOVEMBRE!L48 -> 11760.319 | H15: =[2]Avril!L74 -> 0 | I15: =(H15-G15)/G15 -> -1 | K15: NOVEMBRE | M15: 0 | N15: 0 | P15: 0
A16: DÉCEMBRE | C16: 30387.64 | D16: =[2]Avril!M75 -> 0 | E16: {=E5:F15/12} -> -0.019468505 | F16: 0 | G16: =[1]DÉCEMBRE!$L$34 -> 5565.04 | H16: =[2]Avril!L75 -> 0 | I16: =(H16-G16)/G16 -> -1 | K16: DÉCEMBRE | M16: 0 | N16: 0 | P16: 0
A17: TOTAL | C17: =SUM(C5:C16) -> 1053747.5 | D17: =SUM(D5:D16) -> 485692.83 | E17: -0.0054274845 | F17: 0 | G17: =SUM(G5:G16) -> 161659.31 | H17: =SUM(H5:H16) -> 65903.69 | I17: {=I5:I16/12} -> 0.0015617489 | K17: TOTAL | M17: =SUM(M5:M16) -> 348952.77 | N17: =SUM(N5:N16) -> 7497.15 | O17: =SUM(O5:O16) -> 62899.22
E18: -0.022274638 | F18: 0 | I18: 0.066927586
E19: -0.017756441 | F19: 0 | I19: -0.2212478
E20: -0.011863078 | F20: 0 | I20: 0.027581658
E21: -0.020070553 | F21: 0 | I21: 0.073194751
E22: -0.083333333 | F22: 0 | I22: 0.063951339
E23: -0.083333333 | F23: 0 | I23: -0.36823945
E24: -0.083333333 | F24: 0 | I24: -0.083333333
E25: -0.083333333 | F25: 0 | I25: -0.083333333
E26: -0.083333333 | F26: 0 | I26: -0.083333333
I27: -0.083333333
I28: -0.083333333
